BEGIN:VCALENDAR
VERSION:2.0
PRODID:-//Field Service News - ECPv6.15.20//NONSGML v1.0//EN
CALSCALE:GREGORIAN
METHOD:PUBLISH
X-WR-CALNAME:Field Service News
X-ORIGINAL-URL:https://fieldservicenews.com
X-WR-CALDESC:Events for Field Service News
REFRESH-INTERVAL;VALUE=DURATION:PT1H
X-Robots-Tag:noindex
X-PUBLISHED-TTL:PT1H
BEGIN:VTIMEZONE
TZID:UTC
BEGIN:STANDARD
TZOFFSETFROM:+0000
TZOFFSETTO:+0000
TZNAME:UTC
DTSTART:20230101T000000
END:STANDARD
END:VTIMEZONE
BEGIN:VEVENT
DTSTART;TZID=UTC:20241023T080000
DTEND;TZID=UTC:20241024T170000
DTSTAMP:20260419T125858
CREATED:20240523T111612Z
LAST-MODIFIED:20240523T205845Z
UID:51933-1729670400-1729789200@fieldservicenews.com
SUMMARY:IN PERSON: AFTERMARKET BUSINESS PLATFORM 24: ELEVATING THE EXPERIENCE
DESCRIPTION:Servitize your business through value-selling\, co-creation\, IoT\, change management\, Big Data\, predictive maintenance\, new business models\, connectivity and innovation\n\n\n\n \n\n\n\n\n\n\n\n\n\n\n\nPre-event workshop – 23rd October \n\n\n\nMain Event – 24th October
URL:https://fieldservicenews.com/event/aftermarket-business-platform-24-elevating-the-experience/
LOCATION:MARRIOTT HOTEL\, COPENHAGEN\, DENMARK\, Kalvebod Brygge 5\, Copenhagen\, 1560\, Denmark
ATTACH;FMTTYPE=image/jpeg:https://fieldservicenews.com/wp-content/uploads/2022/08/tech-data.jpg
END:VEVENT
END:VCALENDAR